BEGIN:VCALENDAR
PRODID:-//Mozilla.org/NONSGML Mozilla Calendar V1.1//EN
VERSION:2.0
CALSCALE:GREGORIAN
BEGIN:VEVENT
DTSTAMP:20260423T103827Z
DTSTART:20260427T060000
DTEND:20260427T063000
SUMMARY:2023 AUDI Q5 
LOCATION:http://www.copart.com.br:80
DESCRIPTION:Please join us for the following auction:\n\n2023 AUDI Q5 \nw
 ww.copart.com.br\n\n\n\nContact us at member.services@copart.com or (972
 ) 391-5400 if you have any questions leading up to the auction.\n\n\n-Yo
 ur Copart Team
UID:20260423T103828Z-uidGen@lvpbaw213.corp.copart.com
END:VEVENT
END:VCALENDAR
